BEGIN:VCALENDAR
VERSION:2.0
PRODID:-//Freizeit Aktiv e.V. - ECPv6.15.20//NONSGML v1.0//EN
CALSCALE:GREGORIAN
METHOD:PUBLISH
X-WR-CALNAME:Freizeit Aktiv e.V.
X-ORIGINAL-URL:https://www.freizeitaktiv.net
X-WR-CALDESC:Veranstaltungen für Freizeit Aktiv e.V.
REFRESH-INTERVAL;VALUE=DURATION:PT1H
X-Robots-Tag:noindex
X-PUBLISHED-TTL:PT1H
BEGIN:VTIMEZONE
TZID:Europe/Berlin
BEGIN:DAYLIGHT
TZOFFSETFROM:+0100
TZOFFSETTO:+0200
TZNAME:CEST
DTSTART:20230326T010000
END:DAYLIGHT
BEGIN:STANDARD
TZOFFSETFROM:+0200
TZOFFSETTO:+0100
TZNAME:CET
DTSTART:20231029T010000
END:STANDARD
BEGIN:DAYLIGHT
TZOFFSETFROM:+0100
TZOFFSETTO:+0200
TZNAME:CEST
DTSTART:20240331T010000
END:DAYLIGHT
BEGIN:STANDARD
TZOFFSETFROM:+0200
TZOFFSETTO:+0100
TZNAME:CET
DTSTART:20241027T010000
END:STANDARD
BEGIN:DAYLIGHT
TZOFFSETFROM:+0100
TZOFFSETTO:+0200
TZNAME:CEST
DTSTART:20250330T010000
END:DAYLIGHT
BEGIN:STANDARD
TZOFFSETFROM:+0200
TZOFFSETTO:+0100
TZNAME:CET
DTSTART:20251026T010000
END:STANDARD
END:VTIMEZONE
BEGIN:VEVENT
DTSTART;TZID=Europe/Berlin:20240921T180000
DTEND;TZID=Europe/Berlin:20240921T223000
DTSTAMP:20260426T033929
CREATED:20240526T132056Z
LAST-MODIFIED:20240909T063756Z
UID:1865-1726941600-1726957800@www.freizeitaktiv.net
SUMMARY:Jahreshauptversammlung
DESCRIPTION: \n\nHallo Freizeit Aktiv Mitglieder\,\n \nhiermit laden wir euch ganz herzlich zu unserer diesjährigen Hauptversammlung am Samstag den 21.09.2024 in den Hallenanbau der Carl-Benz-Halle in Pfaffenrot ein. Beginn der Hauptversammlung ist 19.00 Uhr. Davor findet ab 18.00 Uhr die Versammlung der Waldmännle und der Jugend statt.\n\n\n \nTagesordnung:\n \n1. Begrüßung\n2. Bericht des Vorstands\n3. Bericht des Kassiers\n4. Bericht der Kassenprüfer\n5. Bericht aus den Abteilungen\n6. Entlastung des Vorstandes \n7. Wahlen\n8. Sonstiges\n \nAnträge zur Tagesordnung können bis Donnerstag den 19.09. an folgende Emailadresse gerichtet werden: Robert@freizeitaktiv.net\n \nAuf Euer Kommen freut sich euer Freizeit Aktiv e.V.\n \nDie Vorstandschaft
URL:https://www.freizeitaktiv.net/event/jahreshauptversammlung/
LOCATION:Carl-Benz-Halle\, 76359 Marxzell\, Pforzheimer Str.42\, Marxzell\, 76359\, Germany
END:VEVENT
END:VCALENDAR